BEGIN:VCALENDAR
VERSION:2.0
CALSCALE:GREGORIAN
PRODID:-//Diputació de Barcelona//DibaCMS//EN
BEGIN:VEVENT
UID:2049
DTSTAMP:20260422T152225
DTSTART:20190212T000000
DTEND:20480213T000000
SUMMARY:Aprèn a combatre l’estrès amb un taller de mindfulness
LOCATION:
METHOD:PUBLISH
X-WR-CALNAME:dosrius@dosrius.cat
X-WR-TIMEZONE:Europe/Madrid
DESCRIPTION:El curs començarà el 6 de març i per participar-hi cal inscriure’s prèviament a les oficines municipals.

URI:https://www.dosrius.cat/actualitat/noticies/apren-a-combatre-lestres-amb-un-taller-de-mindfulness.html
CLASS:PUBLIC
END:VEVENT
END:VCALENDAR
