BEGIN:VCALENDAR
VERSION:2.0
CALSCALE:GREGORIAN
PRODID:-//Diputació de Barcelona//DibaCMS//EN
BEGIN:VEVENT
UID:2047
DTSTAMP:20260422T181214
DTSTART:20190211T160000
DTEND:20480221T000000
SUMMARY:L’Ajuntament se suma a les mobilitzacions per l’inici del judici als presos polítics
LOCATION:
METHOD:PUBLISH
X-WR-CALNAME:dosrius@dosrius.cat
X-WR-TIMEZONE:Europe/Madrid
DESCRIPTION:Dimarts 12 de febrer es convocarà al migdia una aturada de 10 minuts davant del consistori.

URI:https://www.dosrius.cat/actualitat/noticies/lajuntament-se-suma-a-les-mobilitzacions-per-linici-del-judici-als-presos-politics.html
CLASS:PUBLIC
END:VEVENT
END:VCALENDAR
