BEGIN:VCALENDAR
VERSION:2.0
CALSCALE:GREGORIAN
PRODID:-//Diputació de Barcelona//DibaCMS//EN
BEGIN:VEVENT
UID:2039
DTSTAMP:20260422T122008
DTSTART:20190207T105500
DTEND:20480214T000000
SUMMARY:Oriol Mena triomfa al Ral·li Dakar 2019
LOCATION:
METHOD:PUBLISH
X-WR-CALNAME:dosrius@dosrius.cat
X-WR-TIMEZONE:Europe/Madrid
DESCRIPTION:L’Ajuntament retrà un homenatge públic a l’esportista canyamarenc, que enguany s’ha coronat com el millor pilot català de motos de la competició.

URI:https://www.dosrius.cat/actualitat/noticies/oriol-mena-triomfa-al-ralli-dakar-2019.html
CLASS:PUBLIC
END:VEVENT
END:VCALENDAR
