BEGIN:VCALENDAR
VERSION:2.0
CALSCALE:GREGORIAN
PRODID:-//Diputació de Barcelona//DibaCMS//EN
BEGIN:VEVENT
UID:2036
DTSTAMP:20260422T151331
DTSTART:20190207T100000
DTEND:20480214T000000
SUMMARY:Ja pots identificar i esterilitzar el teu animal de companyia a Dosrius
LOCATION:
METHOD:PUBLISH
X-WR-CALNAME:dosrius@dosrius.cat
X-WR-TIMEZONE:Europe/Madrid
DESCRIPTION:L’Ajuntament se suma a la campanya ‘Sóc responsable’ promoguda per la Fundació per a l’Assessorament i Acció en Defensa dels Animals (FAADA), que ofereix el procés d’identificació i esterilització de gossos, gats i fures a preus reduïts. 

URI:https://www.dosrius.cat/actualitat/noticies/ja-pots-identificar-i-esterilitzar-el-teu-animal-de-companyia-a-dosrius.html
CLASS:PUBLIC
END:VEVENT
END:VCALENDAR
