BEGIN:VCALENDAR
VERSION:2.0
CALSCALE:GREGORIAN
PRODID:-//Diputació de Barcelona//DibaCMS//EN
BEGIN:VEVENT
UID:2031
DTSTAMP:20260422T140038
DTSTART:20190205T000000
DTEND:20480221T000000
SUMMARY:L’Ajuntament adjudica el projecte d’arranjament de carrers de Can Massuet del Far
LOCATION:
METHOD:PUBLISH
X-WR-CALNAME:dosrius@dosrius.cat
X-WR-TIMEZONE:Europe/Madrid
DESCRIPTION:L’obra implicarà els carrers Mataró, Vallès i Montnegre i l’avinguda del Corredor, així com l’execució d’una plataforma de ressalt al carrer 1 d’Octubre.

URI:https://www.dosrius.cat/actualitat/noticies/lajuntament-adjudica-el-projecte-darranjament-de-carrers-de-can-massuet-del-far.html
CLASS:PUBLIC
END:VEVENT
END:VCALENDAR
