BEGIN:VCALENDAR
VERSION:2.0
CALSCALE:GREGORIAN
PRODID:-//Diputació de Barcelona//DibaCMS//EN
BEGIN:VEVENT
UID:2029
DTSTAMP:20260422T102925
DTSTART:20190326T080000
DTEND:20480213T000000
SUMMARY:La Volta Ciclista a Catalunya rodarà per Dosrius aquest 2019
LOCATION:
METHOD:PUBLISH
X-WR-CALNAME:dosrius@dosrius.cat
X-WR-TIMEZONE:Europe/Madrid
DESCRIPTION:El municipi acollirà el 26 de març un tram de la segona etapa d’aquesta icònica competició on hi prendran part algunes de les primeres figures del ciclisme mundial. 

URI:https://www.dosrius.cat/actualitat/noticies/la-volta-ciclista-a-catalunya-rodara-per-dosrius-aquest-2019.html
CLASS:PUBLIC
END:VEVENT
END:VCALENDAR
