BEGIN:VCALENDAR
VERSION:2.0
CALSCALE:GREGORIAN
PRODID:-//Diputació de Barcelona//DibaCMS//EN
BEGIN:VEVENT
UID:2026
DTSTAMP:20260422T122932
DTSTART:20190131T110000
DTEND:20480124T000000
SUMMARY:L’Ajuntament incorpora quatre persones a través del Pla de Treball i Formació 2019-2020 del SOC que gestiona el Consell Comarcal del Maresme
LOCATION:
METHOD:PUBLISH
X-WR-CALNAME:dosrius@dosrius.cat
X-WR-TIMEZONE:Europe/Madrid
DESCRIPTION:La incorporació, de caràcter temporal, s’ha fet efectiva a 31 de gener i consta de dos auxiliars administratives a oficines de la línia Dona 12 i de dos peons a la brigada municipal.

URI:https://www.dosrius.cat/actualitat/noticies/lajuntament-incorpora-quatre-persones-a-traves-del-pla-de-treball-i-formacio-2019-2020-del-soc-que-gestiona-el-consell-comarcal-del-maresme.html
CLASS:PUBLIC
END:VEVENT
END:VCALENDAR
