BEGIN:VCALENDAR
VERSION:2.0
CALSCALE:GREGORIAN
PRODID:-//Diputació de Barcelona//DibaCMS//EN
BEGIN:VEVENT
UID:2025
DTSTAMP:20260420T153917
DTSTART:20190130T090000
DTEND:20480124T000000
SUMMARY:Es publica la licitació del servei de manteniment dels equipaments municipals
LOCATION:
METHOD:PUBLISH
X-WR-CALNAME:dosrius@dosrius.cat
X-WR-TIMEZONE:Europe/Madrid
DESCRIPTION:El contracte tindrà una durada de tres anys i les sol·licituds es poden presentar fins el 5 de març de 2019.

URI:https://www.dosrius.cat/actualitat/noticies/es-publica-la-licitacio-del-servei-de-manteniment-dels-equipaments-municipals.html
CLASS:PUBLIC
END:VEVENT
END:VCALENDAR
