BEGIN:VCALENDAR
VERSION:2.0
CALSCALE:GREGORIAN
PRODID:-//Diputació de Barcelona//DibaCMS//EN
BEGIN:VEVENT
UID:2020
DTSTAMP:20260422T134052
DTSTART:20190122T000000
DTEND:20480116T000000
SUMMARY:Llum verda al pressupost municipal de 2019
LOCATION:
METHOD:PUBLISH
X-WR-CALNAME:dosrius@dosrius.cat
X-WR-TIMEZONE:Europe/Madrid
DESCRIPTION:L’aprovació s’ha fet després d’estimar les al·legacions presentades per Comissions Obreres i desestimar les presentades pel PSC.

URI:https://www.dosrius.cat/actualitat/noticies/llum-verda-al-pressupost-municipal-de-2019.html
CLASS:PUBLIC
END:VEVENT
END:VCALENDAR
