BEGIN:VCALENDAR
VERSION:2.0
CALSCALE:GREGORIAN
PRODID:-//Diputació de Barcelona//DibaCMS//EN
BEGIN:VEVENT
UID:2017
DTSTAMP:20260422T135706
DTSTART:20190118T100000
DTEND:20480123T000000
SUMMARY:L’Ajuntament realitza obres de millora al Cementiri de Dosrius i instal·la els primers columbaris 
LOCATION:
METHOD:PUBLISH
X-WR-CALNAME:dosrius@dosrius.cat
X-WR-TIMEZONE:Europe/Madrid
DESCRIPTION:Amb aquesta actuació l’equip de govern dóna compliment a un dels compromisos assolits en aquest mandat i aposta per modernitzar i adequar el servei funerari a les necessitats i a la diversitat de la demanda social actual.

URI:https://www.dosrius.cat/actualitat/noticies/lajuntament-realitza-obres-de-millora-al-cementiri-de-dosrius-i-installa-els-primers-columbaris-.html
CLASS:PUBLIC
END:VEVENT
END:VCALENDAR
