BEGIN:VCALENDAR
VERSION:2.0
CALSCALE:GREGORIAN
PRODID:-//Diputació de Barcelona//DibaCMS//EN
BEGIN:VEVENT
UID:2016
DTSTAMP:20260422T164939
DTSTART:20190117T000000
DTEND:20480123T000000
SUMMARY:La Junta Local de Seguretat es reuneix per avaluar i coordinar noves accions preventives davant l’increment de robatoris
LOCATION:
METHOD:PUBLISH
X-WR-CALNAME:dosrius@dosrius.cat
X-WR-TIMEZONE:Europe/Madrid
DESCRIPTION:L’Ajuntament reclama a la Generalitat un augment de la dotació d’agents dels Mossos d’Esquadra al municipi i treballa per ampliar i estabilitzar la plantilla de la Policia Local i millorar les condicions de treball dels agents.

URI:https://www.dosrius.cat/actualitat/noticies/la-junta-local-de-seguretat-es-reuneix-per-avaluar-i-coordinar-noves-accions-preventives-davant-lincrement-de-robatoris.html
CLASS:PUBLIC
END:VEVENT
END:VCALENDAR
