BEGIN:VCALENDAR
VERSION:2.0
CALSCALE:GREGORIAN
PRODID:-//Diputació de Barcelona//DibaCMS//EN
BEGIN:VEVENT
UID:2014
DTSTAMP:20260422T140004
DTSTART:20190121T120000
DTEND:20480124T000000
SUMMARY:Nova edició de la revista d'informació municipal El Full
LOCATION:
METHOD:PUBLISH
X-WR-CALNAME:dosrius@dosrius.cat
X-WR-TIMEZONE:Europe/Madrid
DESCRIPTION:Ja és al carrer una nova edició d'El Full, la revista d'informació municipal. Consulta'n ja la versió digital.

URI:https://www.dosrius.cat/actualitat/noticies/2014-nova-edicio-de-la-revista-dinformacio-municipal-el-full.html
CLASS:PUBLIC
END:VEVENT
END:VCALENDAR
