BEGIN:VCALENDAR
VERSION:2.0
CALSCALE:GREGORIAN
PRODID:-//Diputació de Barcelona//DibaCMS//EN
BEGIN:VEVENT
UID:2012
DTSTAMP:20260422T122833
DTSTART:20190116T000000
DTEND:20480117T000000
SUMMARY:Policia Local i Mossos d’Esquadra traslladaran a la població consells de seguretat per a prevenir robatoris en domicilis
LOCATION:
METHOD:PUBLISH
X-WR-CALNAME:dosrius@dosrius.cat
X-WR-TIMEZONE:Europe/Madrid
DESCRIPTION:L’Ajuntament i els cossos policials organitzen el 25 de gener una xerrada informativa amb l’objectiu de fer arribar als veïns i veïnes les principals mesures preventives que cal tenir en compte, així com la importància de la col·laboració ciutadana.

URI:https://www.dosrius.cat/actualitat/noticies/policia-local-i-mossos-desquadra-traslladaran-a-la-poblacio-consells-de-seguretat-per-a-prevenir-robatoris-en-domicilis.html
CLASS:PUBLIC
END:VEVENT
END:VCALENDAR
