BEGIN:VCALENDAR
VERSION:2.0
CALSCALE:GREGORIAN
PRODID:-//Diputació de Barcelona//DibaCMS//EN
BEGIN:VEVENT
UID:2009
DTSTAMP:20260422T222610
DTSTART:20190110T080000
DTEND:20480124T000000
SUMMARY:Dosrius redueix la xifra d’atur al municipi durant el 2018
LOCATION:
METHOD:PUBLISH
X-WR-CALNAME:dosrius@dosrius.cat
X-WR-TIMEZONE:Europe/Madrid
DESCRIPTION:La llista de demandants d’ocupació s’ha reduït el darrer any en 14 persones; situant la taxa d’atur al 10,52%.

URI:https://www.dosrius.cat/actualitat/noticies/dosrius-redueix-la-xifra-datur-al-municipi-durant-el-2018.html
CLASS:PUBLIC
END:VEVENT
END:VCALENDAR
