BEGIN:VCALENDAR
VERSION:2.0
CALSCALE:GREGORIAN
PRODID:-//Diputació de Barcelona//DibaCMS//EN
BEGIN:VEVENT
UID:2008
DTSTAMP:20260422T164907
DTSTART:20190109T000000
DTEND:20480124T000000
SUMMARY:L’administració electrònica es consolida a Dosrius com una eina eficaç per a millorar la relació entre l’administració i la ciutadania 
LOCATION:
METHOD:PUBLISH
X-WR-CALNAME:dosrius@dosrius.cat
X-WR-TIMEZONE:Europe/Madrid
DESCRIPTION:Durant el 2018, l’ús de la tramitació digital d’expedients va suposar al municipi un estalvi econòmic mig per habitant de 16,71€; incrementant, així, la xifra assolida durant el 2017 (16,22€/habitant). 

URI:https://www.dosrius.cat/actualitat/noticies/ladministracio-electronica-es-consolida-a-dosrius-com-una-eina-eficac-per-a-millorar-la-relacio-entre-ladministracio-i-la-ciutadania-.html
CLASS:PUBLIC
END:VEVENT
END:VCALENDAR
