BEGIN:VCALENDAR
VERSION:2.0
CALSCALE:GREGORIAN
PRODID:-//Diputació de Barcelona//DibaCMS//EN
BEGIN:VEVENT
UID:2004
DTSTAMP:20260422T103926
DTSTART:20181229T120000
DTEND:20481223T000000
SUMMARY:Policia Local i Mossos d'Esquadra detenen un presumpte membre d’una banda criminal que es dirigia a Can Massuet del Far
LOCATION:
METHOD:PUBLISH
X-WR-CALNAME:dosrius@dosrius.cat
X-WR-TIMEZONE:Europe/Madrid
DESCRIPTION:L’actuació es produeix dies després de la reunió de treball mantinguda entre l’Ajuntament de Dosrius i representants de la Policia Local i de l’Àrea Bàsica Policial (ABP) dels Mossos d’Esquadra de Mataró per activar noves accions encaminades a combatre l’onada de robatoris al municipi i al conjunt del Maresme.

URI:https://www.dosrius.cat/actualitat/noticies/policia-local-i-mossos-desquadra-detenen-un-presumpte-membre-duna-banda-criminal-que-es-dirigia-a-can-massuet-del-far.html
CLASS:PUBLIC
END:VEVENT
END:VCALENDAR
