BEGIN:VCALENDAR
VERSION:2.0
CALSCALE:GREGORIAN
PRODID:-//Diputació de Barcelona//DibaCMS//EN
BEGIN:VEVENT
UID:2000
DTSTAMP:20260422T145052
DTSTART:20181220T130000
DTEND:20481211T000000
SUMMARY:L’Ajuntament incorpora nova il·luminació a la ronda de Dosrius i a la pujada del Castell
LOCATION:
METHOD:PUBLISH
X-WR-CALNAME:dosrius@dosrius.cat
X-WR-TIMEZONE:Europe/Madrid
DESCRIPTION:El consistori ha habilitat nous punts de llum LED en aquesta zona del municipi per millorar la visibilitat i la seguretat de vianants i vehicles. 

URI:https://www.dosrius.cat/actualitat/noticies/lajuntament-incorpora-nova-illuminacio-a-la-ronda-de-dosrius-i-a-la-pujada-del-castell.html
CLASS:PUBLIC
END:VEVENT
END:VCALENDAR
