BEGIN:VCALENDAR
VERSION:2.0
CALSCALE:GREGORIAN
PRODID:-//Diputació de Barcelona//DibaCMS//EN
BEGIN:VEVENT
UID:1998
DTSTAMP:20260422T220517
DTSTART:20181219T160000
DTEND:20481204T000000
SUMMARY:Ja es pot adquirir el calendari de 2019 editat per l’Ajuntament
LOCATION:
METHOD:PUBLISH
X-WR-CALNAME:dosrius@dosrius.cat
X-WR-TIMEZONE:Europe/Madrid
DESCRIPTION:El calendari es pot adquirir gratuïtament a les dependències de l’Ajuntament i inclou les festivitats locals del 2019 i els festius nacionals aprovats per la Generalitat.

URI:https://www.dosrius.cat/actualitat/noticies/ja-es-pot-adquirir-el-calendari-de-2019-editat-per-lajuntament.html
CLASS:PUBLIC
END:VEVENT
END:VCALENDAR
