BEGIN:VCALENDAR
VERSION:2.0
CALSCALE:GREGORIAN
PRODID:-//Diputació de Barcelona//DibaCMS//EN
BEGIN:VEVENT
UID:1995
DTSTAMP:20260422T103646
DTSTART:20181218T160000
DTEND:20481217T000000
SUMMARY:L’EBM La Caseta del Bosc de Can Martorell acull la jornada ‘Transicions a la primera infància’
LOCATION:
METHOD:PUBLISH
X-WR-CALNAME:dosrius@dosrius.cat
X-WR-TIMEZONE:Europe/Madrid
DESCRIPTION:
URI:https://www.dosrius.cat/actualitat/noticies/lebm-la-caseta-del-bosc-de-can-martorell-acull-la-jornada-transicions-a-la-primera-infancia.html
CLASS:PUBLIC
END:VEVENT
END:VCALENDAR
