BEGIN:VCALENDAR
VERSION:2.0
CALSCALE:GREGORIAN
PRODID:-//Diputació de Barcelona//DibaCMS//EN
BEGIN:VEVENT
UID:1993
DTSTAMP:20260422T120111
DTSTART:20181217T000000
DTEND:20481211T000000
SUMMARY:Més d’una setantena de persones participen de la xerrada informativa sobre l’acollida al municipi de joves migrants sense referents familiars
LOCATION:
METHOD:PUBLISH
X-WR-CALNAME:dosrius@dosrius.cat
X-WR-TIMEZONE:Europe/Madrid
DESCRIPTION:L’Ajuntament agraeix a tots els veïns i veïnes assistents la seva implicació en aquesta jornada. 

URI:https://www.dosrius.cat/actualitat/noticies/mes-duna-setantena-de-persones-participen-de-la-xerrada-informativa-sobre-lacollida-al-municipi-de-joves-migrants-sense-referents-familiars.html
CLASS:PUBLIC
END:VEVENT
END:VCALENDAR
