BEGIN:VCALENDAR
VERSION:2.0
CALSCALE:GREGORIAN
PRODID:-//Diputació de Barcelona//DibaCMS//EN
BEGIN:VEVENT
UID:1990
DTSTAMP:20260422T151612
DTSTART:20181214T140000
DTEND:20451216T000000
SUMMARY:Avancen a bon ritme els treballs que permetran l’arribada de la fibra òptica a Dosrius
LOCATION:
METHOD:PUBLISH
X-WR-CALNAME:dosrius@dosrius.cat
X-WR-TIMEZONE:Europe/Madrid
DESCRIPTION:El diputat d’Infraestructures Viàries i Mobilitat, Jordi Fàbrega, va visitar aquest dimarts les obres que es duen a terme a la carretera B-510 acompanyat per l’alcalde de Dosrius, Marc Bosch, i el regidor d’Urbanisme, Joan Serra.

URI:https://www.dosrius.cat/actualitat/noticies/avancen-a-bon-ritme-els-treballs-que-permetran-larribada-de-la-fibra-optica-a-dosrius.html
CLASS:PUBLIC
END:VEVENT
END:VCALENDAR
