BEGIN:VCALENDAR
VERSION:2.0
CALSCALE:GREGORIAN
PRODID:-//Diputació de Barcelona//DibaCMS//EN
BEGIN:VEVENT
UID:1985
DTSTAMP:20260420T142619
DTSTART:20181224T080000
DTEND:20481231T000000
SUMMARY:El Nadal arriba a Dosrius farcit d’activitats
LOCATION:
METHOD:PUBLISH
X-WR-CALNAME:dosrius@dosrius.cat
X-WR-TIMEZONE:Europe/Madrid
DESCRIPTION:L’Ajuntament i el teixit associatiu local organitzen fins al 5 gener un complet programa de propostes lúdiques, culturals i festives arreu del municipi.

URI:https://www.dosrius.cat/actualitat/noticies/el-nadal-arriba-a-dosrius-farcit-dactivitats.html
CLASS:PUBLIC
END:VEVENT
END:VCALENDAR
