BEGIN:VCALENDAR
VERSION:2.0
CALSCALE:GREGORIAN
PRODID:-//Diputació de Barcelona//DibaCMS//EN
BEGIN:VEVENT
UID:1980
DTSTAMP:20260422T151406
DTSTART:20181206T080000
DTEND:20481217T000000
SUMMARY:L’impuls de polítiques socials, millores urbanes i seguretat ciutadana lideren el pressupost municipal de 2019
LOCATION:
METHOD:PUBLISH
X-WR-CALNAME:dosrius@dosrius.cat
X-WR-TIMEZONE:Europe/Madrid
DESCRIPTION:Els comptes per a l’any vinent ascendeixen fins als 6.577.783€ i contemplen un augment substancial de les partides destinades als serveis socials, promoció econòmica i a la seguretat ciutadana.

URI:https://www.dosrius.cat/actualitat/noticies/limpuls-de-politiques-socials-millores-urbanes-i-seguretat-ciutadana-lideren-el-pressupost-municipal-de-2019.html
CLASS:PUBLIC
END:VEVENT
END:VCALENDAR
