BEGIN:VCALENDAR
VERSION:2.0
CALSCALE:GREGORIAN
PRODID:-//Diputació de Barcelona//DibaCMS//EN
BEGIN:VEVENT
UID:1974
DTSTAMP:20260422T135351
DTSTART:20181203T000000
DTEND:20481210T000000
SUMMARY:Canyamars acull la presentació de ‘La guia de la iaia del Maresme’
LOCATION:
METHOD:PUBLISH
X-WR-CALNAME:dosrius@dosrius.cat
X-WR-TIMEZONE:Europe/Madrid
DESCRIPTION:La publicació està il·lustrada amb mapes de 10 rutes que recorren els 30 municipis del Maresme. Entre els itineraris proposats hi destaquen el Pou de Glaç de Canyamars i el Santuari del Corredor. L’edició en paper, a més, es complementa amb el web www.laiaiadelmaresme.cat. 

URI:https://www.dosrius.cat/actualitat/noticies/canyamars-acull-la-presentacio-de-la-guia-de-la-iaia-del-maresme.html
CLASS:PUBLIC
END:VEVENT
END:VCALENDAR
