BEGIN:VCALENDAR
VERSION:2.0
CALSCALE:GREGORIAN
PRODID:-//Diputació de Barcelona//DibaCMS//EN
BEGIN:VEVENT
UID:1971
DTSTAMP:20260422T151157
DTSTART:20181129T000000
DTEND:20481105T000000
SUMMARY:La Diputació de Barcelona inicia les obres que permetran el desplegament de la fibra òptica a Dosrius
LOCATION:
METHOD:PUBLISH
X-WR-CALNAME:dosrius@dosrius.cat
X-WR-TIMEZONE:Europe/Madrid
DESCRIPTION:L’ens supramunicipal assumirà els costos de construcció de la infraestructura necessària per tal que es pugui desplegar la fibra òptica a través de la xarxa de carreteres.

URI:https://www.dosrius.cat/actualitat/noticies/la-diputacio-de-barcelona-inicia-les-obres-que-permetran-el-desplegament-de-la-fibra-optica-a-dosrius.html
CLASS:PUBLIC
END:VEVENT
END:VCALENDAR
