BEGIN:VCALENDAR
VERSION:2.0
CALSCALE:GREGORIAN
PRODID:-//Diputació de Barcelona//DibaCMS//EN
BEGIN:VEVENT
UID:1969
DTSTAMP:20260420T142121
DTSTART:20181128T000000
DTEND:20481030T000000
SUMMARY:Dosrius, un any més al costat de La Marató de TV3
LOCATION:
METHOD:PUBLISH
X-WR-CALNAME:dosrius@dosrius.cat
X-WR-TIMEZONE:Europe/Madrid
DESCRIPTION:El municipi se suma al projecte solidari impulsat per La Fundació La Marató de TV3 amb l’organització de diversos actes durant el mes de desembre.

URI:https://www.dosrius.cat/actualitat/noticies/dosrius-un-any-mes-al-costat-de-la-marato-de-tv3.html
CLASS:PUBLIC
END:VEVENT
END:VCALENDAR
