BEGIN:VCALENDAR
VERSION:2.0
CALSCALE:GREGORIAN
PRODID:-//Diputació de Barcelona//DibaCMS//EN
BEGIN:VEVENT
UID:1950
DTSTAMP:20260420T142409
DTSTART:20181120T100000
DTEND:20481105T000000
SUMMARY:Dosrius se suma al Dia Internacional per a l’eliminació de la violència envers les dones
LOCATION:
METHOD:PUBLISH
X-WR-CALNAME:dosrius@dosrius.cat
X-WR-TIMEZONE:Europe/Madrid
DESCRIPTION:En el marc de la desena edició de la campanya contra la violència masclista al municipi, l’Ajuntament impulsa una campanya de sensibilització i prevenció sobre qualsevol manifestació de violència contra les dones, els joves i la gent gran.

URI:https://www.dosrius.cat/actualitat/noticies/dosrius-se-suma-al-dia-internacional-per-a-leliminacio-de-la-violencia-envers-les-dones.html
CLASS:PUBLIC
END:VEVENT
END:VCALENDAR
