BEGIN:VCALENDAR
VERSION:2.0
CALSCALE:GREGORIAN
PRODID:-//Diputació de Barcelona//DibaCMS//EN
BEGIN:VEVENT
UID:1937
DTSTAMP:20260422T103937
DTSTART:20181026T000000
DTEND:20481009T000000
SUMMARY:La Policia Local deté el presumpte autor d’un robatori amb violència i intimidació al municipi
LOCATION:
METHOD:PUBLISH
X-WR-CALNAME:dosrius@dosrius.cat
X-WR-TIMEZONE:Europe/Madrid
DESCRIPTION:L’Ajuntament posa en valor la ràpida actuació del cos policial i la col·laboració ciutadana, claus per a la detenció del presumpte autor dels fets.

URI:https://www.dosrius.cat/actualitat/noticies/la-policia-local-dete-el-presumpte-autor-dun-robatori-amb-violencia-i-intimidacio-al-municipi.html
CLASS:PUBLIC
END:VEVENT
END:VCALENDAR
