BEGIN:VCALENDAR
VERSION:2.0
CALSCALE:GREGORIAN
PRODID:-//Diputació de Barcelona//DibaCMS//EN
BEGIN:VEVENT
UID:1933
DTSTAMP:20260422T103809
DTSTART:20181019T170000
DTEND:20481019T000000
SUMMARY:Dosrius i Argentona uneixen esforços per solucionar els problemes de recepció de senyal de televisió en ambdós municipis
LOCATION:
METHOD:PUBLISH
X-WR-CALNAME:dosrius@dosrius.cat
X-WR-TIMEZONE:Europe/Madrid
DESCRIPTION:Els ajuntaments dosriuenc i argentoní sol·liciten una reunió d'urgència amb representants de Cellnex Telecom, empresa responsable dels repetidors, per resoldre la problemàtica i garantir als veïns i veïnes la correcta prestació del servei.

URI:https://www.dosrius.cat/actualitat/noticies/dosrius-i-argentona-uneixen-esforcos-per-solucionar-els-problemes-de-recepcio-de-senyal-de-televisio-en-ambdos-municipis.html
CLASS:PUBLIC
END:VEVENT
END:VCALENDAR
