BEGIN:VCALENDAR
VERSION:2.0
CALSCALE:GREGORIAN
PRODID:-//Diputació de Barcelona//DibaCMS//EN
BEGIN:VEVENT
UID:1930
DTSTAMP:20260422T153717
DTSTART:20181019T000000
DTEND:20481002T000000
SUMMARY:L’Escola Castell de Dosrius s’incorpora al projecte Cultura Emprenedora a l’Escola
LOCATION:
METHOD:PUBLISH
X-WR-CALNAME:dosrius@dosrius.cat
X-WR-TIMEZONE:Europe/Madrid
DESCRIPTION:L’Ajuntament i el centre van de la mà d’aquest projecte educatiu impulsat per la Diputació que simula la creació, organització, gestió i tancament d'una cooperativa escolar de la qual formen part un grup de 55 alumnes.

URI:https://www.dosrius.cat/actualitat/noticies/lescola-castell-de-dosrius-sincorpora-al-projecte-cultura-emprenedora-a-lescola.html
CLASS:PUBLIC
END:VEVENT
END:VCALENDAR
