BEGIN:VCALENDAR
VERSION:2.0
CALSCALE:GREGORIAN
PRODID:-//Diputació de Barcelona//DibaCMS//EN
BEGIN:VEVENT
UID:1926
DTSTAMP:20260422T103742
DTSTART:20181016T000000
DTEND:20481002T000000
SUMMARY:Suma’t a la inauguració del nou itinerari de Canyamars al Santuari del Corredor
LOCATION:
METHOD:PUBLISH
X-WR-CALNAME:dosrius@dosrius.cat
X-WR-TIMEZONE:Europe/Madrid
DESCRIPTION:Dissabte 20 d’octubre tindrà lloc la primera passejada inaugural d’aquest nou itinerari senyalitzat.

URI:https://www.dosrius.cat/actualitat/noticies/sumat-a-la-inauguracio-del-nou-itinerari-de-canyamars-al-santuari-del-corredor.html
CLASS:PUBLIC
END:VEVENT
END:VCALENDAR
