BEGIN:VCALENDAR
VERSION:2.0
CALSCALE:GREGORIAN
PRODID:-//Diputació de Barcelona//DibaCMS//EN
BEGIN:VEVENT
UID:1918
DTSTAMP:20260422T103427
DTSTART:20181007T000000
DTEND:20481002T000000
SUMMARY:Surt a licitació pública el projecte d’urbanització de Can Batlle
LOCATION:
METHOD:PUBLISH
X-WR-CALNAME:dosrius@dosrius.cat
X-WR-TIMEZONE:Europe/Madrid
DESCRIPTION:Els treballs és previst que s’iniciïn el proper mes de novembre amb l’objectiu de convertir Can Batlle en la seu del nou edifici de l’Institut Els Roures i de la nova Biblioteca Esteve Albert i Corp.

URI:https://www.dosrius.cat/actualitat/noticies/surt-a-licitacio-publica-el-projecte-durbanitzacio-de-can-batlle.html
CLASS:PUBLIC
END:VEVENT
END:VCALENDAR
