BEGIN:VCALENDAR
VERSION:2.0
CALSCALE:GREGORIAN
PRODID:-//Diputació de Barcelona//DibaCMS//EN
BEGIN:VEVENT
UID:1906
DTSTAMP:20260422T172716
DTSTART:20180926T110000
DTEND:20480903T000000
SUMMARY:La Policia Local incorpora un nou agent com a funcionari de carrera
LOCATION:
METHOD:PUBLISH
X-WR-CALNAME:dosrius@dosrius.cat
X-WR-TIMEZONE:Europe/Madrid
DESCRIPTION:La incorporació s’ha fet efectiva un cop superat el procés públic d’oposició de la plaça.

URI:https://www.dosrius.cat/actualitat/noticies/la-policia-local-incorpora-un-nou-agent-com-a-funcionari-de-carrera.html
CLASS:PUBLIC
END:VEVENT
END:VCALENDAR
