BEGIN:VCALENDAR
VERSION:2.0
CALSCALE:GREGORIAN
PRODID:-//Diputació de Barcelona//DibaCMS//EN
BEGIN:VEVENT
UID:1903
DTSTAMP:20260420T172238
DTSTART:20180924T000000
DTEND:20480910T000000
SUMMARY:Ordre del dia del Ple municipal ordinari del mes de setembre
LOCATION:
METHOD:PUBLISH
X-WR-CALNAME:dosrius@dosrius.cat
X-WR-TIMEZONE:Europe/Madrid
DESCRIPTION:Dijous 27 de setembre (19 h.), la Sala de Plens de l’Ajuntament de Dosrius acollirà el Ple municipal ordinari.

URI:https://www.dosrius.cat/actualitat/noticies/ordre-del-dia-del-ple-municipal-ordinari-del-mes-de-setembre.html
CLASS:PUBLIC
END:VEVENT
END:VCALENDAR
