BEGIN:VCALENDAR
VERSION:2.0
CALSCALE:GREGORIAN
PRODID:-//Diputació de Barcelona//DibaCMS//EN
BEGIN:VEVENT
UID:1899
DTSTAMP:20260420T171648
DTSTART:20180921T130000
DTEND:20480910T000000
SUMMARY:Dosrius commemorarà l’1-O amb un acte cívic i un d’institucional
LOCATION:
METHOD:PUBLISH
X-WR-CALNAME:dosrius@dosrius.cat
X-WR-TIMEZONE:Europe/Madrid
DESCRIPTION:Amb aquest programa d’activitats l’Ajuntament vol retre un petit homenatge públic al civisme i el compromís amb els valors democràtics demostrats pels veïns i veïnes i entitats durant la celebració del referèndum d’autodeterminació.

URI:https://www.dosrius.cat/actualitat/noticies/dosrius-commemorara-l1-o-amb-un-acte-civic-i-un-dinstitucional.html
CLASS:PUBLIC
END:VEVENT
END:VCALENDAR
