BEGIN:VCALENDAR
VERSION:2.0
CALSCALE:GREGORIAN
PRODID:-//Diputació de Barcelona//DibaCMS//EN
BEGIN:VEVENT
UID:1897
DTSTAMP:20260420T171551
DTSTART:20180921T110000
DTEND:20480904T000000
SUMMARY:Dosrius es dota amb un Mapa de Patrimoni Cultural
LOCATION:
METHOD:PUBLISH
X-WR-CALNAME:dosrius@dosrius.cat
X-WR-TIMEZONE:Europe/Madrid
DESCRIPTION:El document es pot consultar a través del següent enllaç i consta d’un total de 442 elements inventariats del patrimoni cultural i natural del municipi.

URI:https://www.dosrius.cat/actualitat/noticies/dosrius-es-dota-amb-un-mapa-de-patrimoni-cultural.html
CLASS:PUBLIC
END:VEVENT
END:VCALENDAR
