BEGIN:VCALENDAR
VERSION:2.0
CALSCALE:GREGORIAN
PRODID:-//Diputació de Barcelona//DibaCMS//EN
BEGIN:VEVENT
UID:1896
DTSTAMP:20260420T172222
DTSTART:20180919T110000
DTEND:20480904T000000
SUMMARY:L’Ajuntament licita de nou el servei de gestió de la zona esportiva de Can Massuet del Far
LOCATION:
METHOD:PUBLISH
X-WR-CALNAME:dosrius@dosrius.cat
X-WR-TIMEZONE:Europe/Madrid
DESCRIPTION:La Junta de Govern Local aprova una nova convocatòria per a l’adjudicació del servei després de la rescissió del contracte signat amb la Fundació Marcet. Les empreses o professionals poden presentar la documentació fins al 27 de setembre.

URI:https://www.dosrius.cat/actualitat/noticies/lajuntament-licita-de-nou-el-servei-de-gestio-de-la-zona-esportiva-de-can-massuet-del-far.html
CLASS:PUBLIC
END:VEVENT
END:VCALENDAR
