BEGIN:VCALENDAR
VERSION:2.0
CALSCALE:GREGORIAN
PRODID:-//Diputació de Barcelona//DibaCMS//EN
BEGIN:VEVENT
UID:1895
DTSTAMP:20260420T172737
DTSTART:20180918T000000
DTEND:20480911T000000
SUMMARY:L’Ajuntament incorpora dos radars pedagògics a la via pública
LOCATION:
METHOD:PUBLISH
X-WR-CALNAME:dosrius@dosrius.cat
X-WR-TIMEZONE:Europe/Madrid
DESCRIPTION:Els sistemes s’han habilitat en fase de proves a la carretera de Can Massuet del Far i al carrer Mossèn Cinto Verdaguer amb l’objectiu de conscienciar els conductors sobre la importància de respectar la velocitat màxima.

URI:https://www.dosrius.cat/actualitat/noticies/lajuntament-incorpora-dos-radars-pedagogics-a-la-via-publica.html
CLASS:PUBLIC
END:VEVENT
END:VCALENDAR
