BEGIN:VCALENDAR
VERSION:2.0
CALSCALE:GREGORIAN
PRODID:-//Diputació de Barcelona//DibaCMS//EN
BEGIN:VEVENT
UID:1894
DTSTAMP:20260420T172125
DTSTART:20180917T000000
DTEND:20480910T000000
SUMMARY:El 13 i 14 d’octubre vine a gaudir d’un viatge a l’època medieval
LOCATION:
METHOD:PUBLISH
X-WR-CALNAME:dosrius@dosrius.cat
X-WR-TIMEZONE:Europe/Madrid
DESCRIPTION:No et perdis el vídeo promocional que l’Ajuntament de Dosrius ha editat per donar a conèixer la màgia, l’esperit i l’essència de la Fira del Bosc-Canyamars Medieval. 

URI:https://www.dosrius.cat/actualitat/noticies/el-13-i-14-doctubre-vine-a-gaudir-dun-viatge-a-lepoca-medieval.html
CLASS:PUBLIC
END:VEVENT
END:VCALENDAR
