BEGIN:VCALENDAR
VERSION:2.0
CALSCALE:GREGORIAN
PRODID:-//Diputació de Barcelona//DibaCMS//EN
BEGIN:VEVENT
UID:1892
DTSTAMP:20260420T171154
DTSTART:20180912T100000
DTEND:20480903T000000
SUMMARY:A l’hora d’esmorzar, practica el Boc’n’ Roll!
LOCATION:
METHOD:PUBLISH
X-WR-CALNAME:dosrius@dosrius.cat
X-WR-TIMEZONE:Europe/Madrid
DESCRIPTION:L’Ajuntament entregarà gratuïtament a tots els alumnes dels diferents centres educatius del municipi un original embolcall reutilitzable per a que en puguin fer ús a l’escola a l’hora d’esmorzar. 

URI:https://www.dosrius.cat/actualitat/noticies/a-lhora-desmorzar-practica-el-bocn-roll.html
CLASS:PUBLIC
END:VEVENT
END:VCALENDAR
