BEGIN:VCALENDAR
VERSION:2.0
CALSCALE:GREGORIAN
PRODID:-//Diputació de Barcelona//DibaCMS//EN
BEGIN:VEVENT
UID:1891
DTSTAMP:20260420T172523
DTSTART:20180905T120000
DTEND:20480902T000000
SUMMARY:L’Ajuntament aprova les subvencions per a entitats locals del 2018
LOCATION:
METHOD:PUBLISH
X-WR-CALNAME:dosrius@dosrius.cat
X-WR-TIMEZONE:Europe/Madrid
DESCRIPTION:El consistori ha atorgat ajuts per valor de 10.500€ a entitats esportives i de 13.500€ per a projectes culturals i juvenils. 

URI:https://www.dosrius.cat/actualitat/noticies/lajuntament-aprova-les-subvencions-per-a-entitats-locals-del-2018.html
CLASS:PUBLIC
END:VEVENT
END:VCALENDAR
