BEGIN:VCALENDAR
VERSION:2.0
CALSCALE:GREGORIAN
PRODID:-//Diputació de Barcelona//DibaCMS//EN
BEGIN:VEVENT
UID:1885
DTSTAMP:20260420T172110
DTSTART:20180824T000000
DTEND:20500811T000000
SUMMARY:Dosrius recupera la plaça de la República i anomena el carrer 1 d’Octubre
LOCATION:
METHOD:PUBLISH
X-WR-CALNAME:dosrius@dosrius.cat
X-WR-TIMEZONE:Europe/Madrid
DESCRIPTION:L’Ajuntament ha instal·lat les noves plaques identificatives després que el Ple Municipal aprovés, al mes d’abril, una proposta ciutadana i de la Comissió de Nomenclàtor de Dosrius.

URI:https://www.dosrius.cat/actualitat/noticies/dosrius-recupera-la-placa-de-la-republica-i-anomena-el-carrer-1-doctubre.html
CLASS:PUBLIC
END:VEVENT
END:VCALENDAR
