BEGIN:VCALENDAR
VERSION:2.0
CALSCALE:GREGORIAN
PRODID:-//Diputació de Barcelona//DibaCMS//EN
BEGIN:VEVENT
UID:1879
DTSTAMP:20260420T171601
DTSTART:20180921T100000
DTEND:20480703T000000
SUMMARY:Dosrius ret homenatge a la seva gent gran
LOCATION:
METHOD:PUBLISH
X-WR-CALNAME:dosrius@dosrius.cat
X-WR-TIMEZONE:Europe/Madrid
DESCRIPTION:Els dosriuencs i dosriuenques d’edat més avançada seran els grans protagonistes aquest mes de setembre d’una nova edició de la Festa de la Gent Gran. 

URI:https://www.dosrius.cat/actualitat/noticies/dosrius-ret-homenatge-a-la-seva-gent-gran.html
CLASS:PUBLIC
END:VEVENT
END:VCALENDAR
