BEGIN:VCALENDAR
VERSION:2.0
CALSCALE:GREGORIAN
PRODID:-//Diputació de Barcelona//DibaCMS//EN
BEGIN:VEVENT
UID:1874
DTSTAMP:20260420T172355
DTSTART:20180831T090000
DTEND:20480709T000000
SUMMARY:Canyamars acull la 61a edició de l’Aplec de Muntanya 
LOCATION:
METHOD:PUBLISH
X-WR-CALNAME:dosrius@dosrius.cat
X-WR-TIMEZONE:Europe/Madrid
DESCRIPTION:La trobada tindrà lloc diumenge 9 de setembre i inclourà un dinar popular, sortejos pels assistents i les actuacions de les cobles Canigó i Cervianenca. 

URI:https://www.dosrius.cat/actualitat/noticies/canyamars-acull-la-61a-edicio-de-laplec-de-muntanya-.html
CLASS:PUBLIC
END:VEVENT
END:VCALENDAR
