BEGIN:VCALENDAR
VERSION:2.0
CALSCALE:GREGORIAN
PRODID:-//Diputació de Barcelona//DibaCMS//EN
BEGIN:VEVENT
UID:1857
DTSTAMP:20260422T221955
DTSTART:20180716T120000
DTEND:20480703T000000
SUMMARY:Dosrius recull més d’11 tones de roba usada en el primer semestre de 2018
LOCATION:
METHOD:PUBLISH
X-WR-CALNAME:dosrius@dosrius.cat
X-WR-TIMEZONE:Europe/Madrid
DESCRIPTION:Les xifres evidencien el clar interès dels veïns i veïnes per promoure accions de sensibilització social i mediambiental.

URI:https://www.dosrius.cat/actualitat/noticies/dosrius-recull-mes-d11-tones-de-roba-usada-en-el-primer-semestre-de-2018.html
CLASS:PUBLIC
END:VEVENT
END:VCALENDAR
