BEGIN:VCALENDAR
VERSION:2.0
CALSCALE:GREGORIAN
PRODID:-//Diputació de Barcelona//DibaCMS//EN
BEGIN:VEVENT
UID:1853
DTSTAMP:20260422T103443
DTSTART:20180710T120000
DTEND:20480702T000000
SUMMARY:Dosrius actualitza el padró municipal en 5.281 habitants
LOCATION:
METHOD:PUBLISH
X-WR-CALNAME:dosrius@dosrius.cat
X-WR-TIMEZONE:Europe/Madrid
DESCRIPTION:El nombre d’habitants residents al municipi augmenta en 83 persones respecte el 2017 i esdevé la xifra oficial de població més elevada de la història recent de Dosrius.

URI:https://www.dosrius.cat/actualitat/noticies/dosrius-actualitza-el-padro-municipal-en-5281-habitants.html
CLASS:PUBLIC
END:VEVENT
END:VCALENDAR
