BEGIN:VCALENDAR
VERSION:2.0
CALSCALE:GREGORIAN
PRODID:-//Diputació de Barcelona//DibaCMS//EN
BEGIN:VEVENT
UID:1844
DTSTAMP:20260422T151442
DTSTART:20180704T000000
DTEND:20480708T000000
SUMMARY:Si ets una persona en cerca de feina, Quatre Ribes t'espera
LOCATION:
METHOD:PUBLISH
X-WR-CALNAME:dosrius@dosrius.cat
X-WR-TIMEZONE:Europe/Madrid
DESCRIPTION:La xarxa supramunicipal que uneix les localitats d’Argentona, Cabrera de Mar, Dosrius i Òrrius, treballa per aconseguir la màxima inserció laboral entre les persones en situació d’atur dels municipis. Amb aquest objectiu, Quatre Ribes dedica una part important dels seus esforços a l’acompanyament en el procés de cerca, a les activitats d’orientació laboral o la borsa de treball.

URI:https://www.dosrius.cat/actualitat/noticies/si-ets-una-persona-en-cerca-de-feina-quatre-ribes-tespera.html
CLASS:PUBLIC
END:VEVENT
END:VCALENDAR
