BEGIN:VCALENDAR
VERSION:2.0
CALSCALE:GREGORIAN
PRODID:-//Diputació de Barcelona//DibaCMS//EN
BEGIN:VEVENT
UID:1830
DTSTAMP:20260420T142240
DTSTART:20180627T000000
DTEND:20480604T000000
SUMMARY:Vine a gaudir d’un viatge al Dosrius de principis del segle XX 
LOCATION:
METHOD:PUBLISH
X-WR-CALNAME:dosrius@dosrius.cat
X-WR-TIMEZONE:Europe/Madrid
DESCRIPTION:Els dies 7 i 8 de juliol, el municipi acollirà una nova edició del projecte ‘Dosrius de 1900’ que oferirà als veïns i veïnes i visitants un ampli i variat programa d’activitats lúdiques i culturals amb la tradició com a gran protagonista.

URI:https://www.dosrius.cat/actualitat/noticies/vine-a-gaudir-dun-viatge-al-dosrius-de-principis-del-segle-xx-.html
CLASS:PUBLIC
END:VEVENT
END:VCALENDAR
