BEGIN:VCALENDAR
VERSION:2.0
CALSCALE:GREGORIAN
PRODID:-//Diputació de Barcelona//DibaCMS//EN
BEGIN:VEVENT
UID:1825
DTSTAMP:20260422T151808
DTSTART:20180625T142700
DTEND:20480612T000000
SUMMARY:Dosrius coneixerà el 8 de juliol els guanyadors de l’IX Concurs Literari Esteve Albert 
LOCATION:
METHOD:PUBLISH
X-WR-CALNAME:dosrius@dosrius.cat
X-WR-TIMEZONE:Europe/Madrid
DESCRIPTION:El veredicte i el lliurament de premis del certamen es durà a terme al Pou de Glaç de Canyamars en el marc dels actes previs del Festival Poesia i+.

URI:https://www.dosrius.cat/actualitat/noticies/dosrius-coneixera-el-8-de-juliol-els-guanyadors-de-lix-concurs-literari-esteve-albert-.html
CLASS:PUBLIC
END:VEVENT
END:VCALENDAR
