BEGIN:VCALENDAR
VERSION:2.0
CALSCALE:GREGORIAN
PRODID:-//Diputació de Barcelona//DibaCMS//EN
BEGIN:VEVENT
UID:1817
DTSTAMP:20260422T135823
DTSTART:20180618T120000
DTEND:20480610T000000
SUMMARY:L’Escola de Música de Dosrius ofereix el curs ‘Música per a nadons’
LOCATION:
METHOD:PUBLISH
X-WR-CALNAME:dosrius@dosrius.cat
X-WR-TIMEZONE:Europe/Madrid
DESCRIPTION:Les sessions començaran el 4 d’octubre i per participar-hi cal inscriure’s prèviament trucant als telèfons 93 841 37 76 o 93 870 75 05 o a través del correu electrònic emmdosrius@amicsdelaunio.org.

URI:https://www.dosrius.cat/actualitat/noticies/lescola-de-musica-de-dosrius-ofereix-el-curs-musica-per-a-nadons.html
CLASS:PUBLIC
END:VEVENT
END:VCALENDAR
